BEGIN:VCALENDAR
VERSION:2.0
PRODID:-//eventon.com NONSGML v1.0//EN
CALSCALE:GREGORIAN
METHOD:PUBLISH
BEGIN:VEVENT
UID:69e5d4a9bf6b4
DTSTAMP:20260420T072425Z
DTSTART:20250322
DTEND:20250323
LOCATION:
SUMMARY:Őrsi összejövetel
DESCRIPTION:Az esemény részletes leírása.... Meghívó letöltése...\n
 https://zurich.cserkesz.eu/events/orsi-osszejovetel-8/
URL:https://zurich.cserkesz.eu/events/orsi-osszejovetel-8/
END:VEVENT
END:VCALENDAR